BEGIN:VCALENDAR
VERSION:2.0
PRODID:-//wp-events-plugin.com//7.2.3.1//EN
TZID:Europe/Berlin
X-WR-TIMEZONE:Europe/Berlin
BEGIN:VEVENT
UID:47@folgensozialerhilfen.de
DTSTART;TZID=Europe/Berlin:20260429T100000
DTEND;TZID=Europe/Berlin:20260429T120000
DTSTAMP:20260421T094122Z
URL:https://folgensozialerhilfen.de/events/gesamtteam-treffen/
SUMMARY:Gesamtteam-Treffen
DESCRIPTION:
LOCATION:HC-7322\, Hölderlinstr. 3\, Siegen\, Deutschland
X-APPLE-STRUCTURED-LOCATION;VALUE=URI;X-ADDRESS=Hölderlinstr. 3\, Siegen\,
  Deutschland;X-APPLE-RADIUS=100;X-TITLE=HC-7322:geo:0,0
END:VEVENT
BEGIN:VTIMEZONE
TZID:Europe/Berlin
X-LIC-LOCATION:Europe/Berlin
BEGIN:DAYLIGHT
DTSTART:20260329T030000
TZOFFSETFROM:+0100
TZOFFSETTO:+0200
TZNAME:CEST
END:DAYLIGHT
END:VTIMEZONE
END:VCALENDAR