BEGIN:VCALENDAR
VERSION:2.0
PRODID:-//wp-events-plugin.com//7.2.3.1//EN
TZID:Europe/Berlin
X-WR-TIMEZONE:Europe/Berlin
BEGIN:VEVENT
UID:37@folgensozialerhilfen.de
DTSTART;TZID=Europe/Berlin;VALUE=DATE:20260527
DTEND;TZID=Europe/Berlin;VALUE=DATE:20260529
DTSTAMP:20260321T094854Z
URL:https://folgensozialerhilfen.de/events/gastaufenthalt-von-prof-dr-rudi
 -roose/
SUMMARY:Gastaufenthalt von Prof. Dr. Rudi Roose (Universität Gent)
DESCRIPTION:
END:VEVENT
BEGIN:VTIMEZONE
TZID:Europe/Berlin
X-LIC-LOCATION:Europe/Berlin
BEGIN:DAYLIGHT
DTSTART:20260329T030000
TZOFFSETFROM:+0100
TZOFFSETTO:+0200
TZNAME:CEST
END:DAYLIGHT
END:VTIMEZONE
END:VCALENDAR